BEGIN:VCALENDAR
VERSION:2.0
PRODID:-//Squarespace Inc/Squarespace 6//v6//EN
BEGIN:VEVENT
UID:5837cd1dff7c50058bbde961@squarespace.com
DTSTAMP:20161125T061335Z
DTSTART:20161129T050000Z
DTEND:20161201T135900Z
SUMMARY:booked
END:VEVENT
END:VCALENDAR
