BEGIN:VCALENDAR
VERSION:2.0
PRODID:-//Squarespace Inc/Squarespace 6//v6//EN
BEGIN:VEVENT
UID:57c3d337e4fcb561cb8a9f70@squarespace.com
DTSTAMP:20160829T061651Z
DTSTART:20160903T063000Z
DTEND:20160907T073000Z
SUMMARY:booked
END:VEVENT
END:VCALENDAR
