BEGIN:VCALENDAR
VERSION:2.0
PRODID:-//Squarespace Inc/Squarespace 6//v6//EN
BEGIN:VEVENT
UID:57c3d35ed1758e5dd836cf78@squarespace.com
DTSTAMP:20160829T061723Z
DTSTART:20160907T063000Z
DTEND:20160911T073000Z
SUMMARY:booked
END:VEVENT
END:VCALENDAR
