BEGIN:VCALENDAR
VERSION:2.0
PRODID:-//Squarespace Inc/Squarespace 6//v6//EN
BEGIN:VEVENT
UID:58722ddd725e2549f7ade56a@squarespace.com
DTSTAMP:20170108T121935Z
DTSTART:20170110T010000Z
DTEND:20170112T130000Z
SUMMARY:Booked
END:VEVENT
END:VCALENDAR
