BEGIN:VCALENDAR
VERSION:2.0
PRODID:-//Squarespace Inc/Squarespace 6//v6//EN
BEGIN:VEVENT
UID:5955abec8419c2c79c52c021@squarespace.com
DTSTAMP:20170630T014102Z
DTSTART:20171026T200000Z
DTEND:20171029T130000Z
SUMMARY:Booked
END:VEVENT
END:VCALENDAR
