BEGIN:VCALENDAR
VERSION:2.0
PRODID:-//Squarespace Inc/Squarespace 6//v6//EN
BEGIN:VEVENT
UID:5955a9e1bf629a910c4eae5b@squarespace.com
DTSTAMP:20170630T013206Z
DTSTART:20170628T200000Z
DTEND:20170702T130000Z
SUMMARY:Booked
END:VEVENT
END:VCALENDAR
