BEGIN:VCALENDAR
VERSION:2.0
PRODID:-//Squarespace Inc/Squarespace 6//v6//EN
BEGIN:VEVENT
UID:58722f04e6f2e1d42163890e@squarespace.com
DTSTAMP:20170630T013627Z
DTSTART:20170705T200000Z
DTEND:20170731T130000Z
SUMMARY:Booked
END:VEVENT
END:VCALENDAR
