BEGIN:VCALENDAR
VERSION:2.0
PRODID:-//Squarespace Inc/Squarespace 6//v6//EN
BEGIN:VEVENT
UID:5955ab3ba5790a6f9b0fa99f@squarespace.com
DTSTAMP:20170630T013804Z
DTSTART:20170811T200000Z
DTEND:20170815T130000Z
SUMMARY:Booked
END:VEVENT
END:VCALENDAR
