BEGIN:VCALENDAR
VERSION:2.0
PRODID:-//Squarespace Inc/Squarespace 6//v6//EN
BEGIN:VEVENT
UID:5955ab89b3db2b53817df0c1@squarespace.com
DTSTAMP:20170630T013937Z
DTSTART:20170818T200000Z
DTEND:20170830T130000Z
SUMMARY:Booked
END:VEVENT
END:VCALENDAR
