BEGIN:VCALENDAR
VERSION:2.0
PRODID:-//Squarespace Inc/Squarespace 6//v6//EN
BEGIN:VEVENT
UID:597a8a8bcf81e05770830dc3@squarespace.com
DTSTAMP:20170728T005203Z
DTSTART:20170803T200000Z
DTEND:20170806T130000Z
SUMMARY:Booked
END:VEVENT
END:VCALENDAR
