BEGIN:VCALENDAR
VERSION:2.0
PRODID:-//Squarespace Inc/Squarespace 6//v6//EN
BEGIN:VEVENT
UID:597a8ac34c0dbfd2a9166009@squarespace.com
DTSTAMP:20170728T005252Z
DTSTART:20170807T200000Z
DTEND:20170810T130000Z
SUMMARY:Booked
END:VEVENT
END:VCALENDAR
