BEGIN:VCALENDAR
VERSION:2.0
PRODID:-//Squarespace Inc/Squarespace 6//v6//EN
BEGIN:VEVENT
UID:597a8af5e6f2e12643379780@squarespace.com
DTSTAMP:20170728T005348Z
DTSTART:20170909T200000Z
DTEND:20170916T130000Z
SUMMARY:Booked
END:VEVENT
END:VCALENDAR
