BEGIN:VCALENDAR
VERSION:2.0
PRODID:-//Squarespace Inc/Squarespace 6//v6//EN
BEGIN:VEVENT
UID:597a8b29a803bb7c43d8ce8c@squarespace.com
DTSTAMP:20170728T005445Z
DTSTART:20170918T200000Z
DTEND:20170921T130000Z
SUMMARY:Booked
END:VEVENT
END:VCALENDAR
