BEGIN:VCALENDAR
VERSION:2.0
PRODID:-//Squarespace Inc/Squarespace 6//v6//EN
BEGIN:VEVENT
UID:5a568e6ee4966b5f251ed59a@squarespace.com
DTSTAMP:20180110T220716Z
DTSTART:20180120T200000Z
DTEND:20180123T130000Z
SUMMARY:Booked
END:VEVENT
END:VCALENDAR
