BEGIN:VCALENDAR
VERSION:2.0
PRODID:-//Squarespace Inc/Squarespace 6//v6//EN
BEGIN:VEVENT
UID:5a568ea271c10be6277a53e6@squarespace.com
DTSTAMP:20180110T220813Z
DTSTART:20180124T200000Z
DTEND:20180129T130000Z
SUMMARY:Booked
END:VEVENT
END:VCALENDAR
