BEGIN:VCALENDAR
VERSION:2.0
PRODID:-//Squarespace Inc/Squarespace 6//v6//EN
BEGIN:VEVENT
UID:5aed7a3a562fa7607f07471f@squarespace.com
DTSTAMP:20180505T093658Z
DTSTART:20181101T200000Z
DTEND:20181105T130000Z
SUMMARY:booked
END:VEVENT
END:VCALENDAR
