BEGIN:VCALENDAR
VERSION:2.0
PRODID:-//Squarespace Inc/Squarespace 6//v6//EN
BEGIN:VEVENT
UID:5a568ed9085229f556b2263d@squarespace.com
DTSTAMP:20180110T221004Z
DTSTART:20180321T200000Z
DTEND:20180324T130000Z
SUMMARY:Booked
END:VEVENT
END:VCALENDAR
