BEGIN:VCALENDAR
VERSION:2.0
PRODID:-//Squarespace Inc/Squarespace 6//v6//EN
BEGIN:VEVENT
UID:5a568f538165f545d71240de@squarespace.com
DTSTAMP:20180110T221112Z
DTSTART:20180326T010000Z
DTEND:20180329T130000Z
SUMMARY:Booked
END:VEVENT
END:VCALENDAR
