BEGIN:VCALENDAR
VERSION:2.0
PRODID:-//Squarespace Inc/Squarespace 6//v6//EN
BEGIN:VEVENT
UID:5a9887de24a694fe7eb2ab57@squarespace.com
DTSTAMP:20180301T230836Z
DTSTART:20180711T200000Z
DTEND:20180715T130000Z
SUMMARY:Booked
END:VEVENT
END:VCALENDAR
