BEGIN:VCALENDAR
VERSION:2.0
PRODID:-//Squarespace Inc/Squarespace 6//v6//EN
BEGIN:VEVENT
UID:5a9887b871c10b87d6619a16@squarespace.com
DTSTAMP:20180301T230802Z
DTSTART:20180706T200000Z
DTEND:20180711T130000Z
SUMMARY:Booked
END:VEVENT
END:VCALENDAR
