BEGIN:VCALENDAR
VERSION:2.0
PRODID:-//Squarespace Inc/Squarespace 6//v6//EN
BEGIN:VEVENT
UID:5a988858e4966b0ada38bb8a@squarespace.com
DTSTAMP:20180301T231101Z
DTSTART:20180815T200000Z
DTEND:20180819T130000Z
SUMMARY:Booked
END:VEVENT
END:VCALENDAR
