BEGIN:VCALENDAR
VERSION:2.0
PRODID:-//Squarespace Inc/Squarespace 6//v6//EN
BEGIN:VEVENT
UID:5aed7c132b6a2809744d698a@squarespace.com
DTSTAMP:20180505T094210Z
DTSTART:20180517T200000Z
DTEND:20180519T130000Z
SUMMARY:Booked
END:VEVENT
END:VCALENDAR
